BEGIN:VCALENDAR
VERSION:2.0
PRODID:-//81.169.145.70//NONSGML kigkonsult.se iCalcreator 2.20//
CALSCALE:GREGORIAN
METHOD:PUBLISH
X-WR-TIMEZONE:UTC
BEGIN:VEVENT
UID:event12@Musikkapelle Dertingen
DTSTAMP:20260425T145515Z
CATEGORIES:Konzert
DESCRIPTION:Sommerkonzert\nKategorie: Konzert\nICS-Link: http://musikkapell
 e-dertingen.com/index.php?option=com_jem&view=event&id=12:sommerkonzert\n
DTSTART:20200725T180000Z
DTEND:20200725T230000Z
LOCATION:Mandelberghalle\,97877 Dertingen
SUMMARY:Sommerkonzert
URL:http://musikkapelle-dertingen.com/index.php?option=com_jem&view=event&i
 d=12:sommerkonzert
END:VEVENT
END:VCALENDAR
