BEGIN:VCALENDAR
VERSION:2.0
PRODID:-//81.169.145.70//NONSGML kigkonsult.se iCalcreator 2.20//
CALSCALE:GREGORIAN
METHOD:PUBLISH
X-WR-TIMEZONE:UTC
BEGIN:VEVENT
UID:event7@Musikkapelle Dertingen
DTSTAMP:20260425T142217Z
CATEGORIES:Auftritte
DESCRIPTION:Abholung Weinprinzessin & Weinprobe\nKategorie: Auftritte\nICS-
 Link: http://musikkapelle-dertingen.com/index.php?option=com_jem&view=even
 t&id=7:abholung-weinprinzessin-weinprobe\n
DTSTART:20200425T174500Z
DTEND:20200425T193000Z
LOCATION:Mandelberghalle\,97877 Dertingen
SUMMARY:Abholung Weinprinzessin & Weinprobe
URL:http://musikkapelle-dertingen.com/index.php?option=com_jem&view=event&i
 d=7:abholung-weinprinzessin-weinprobe
END:VEVENT
END:VCALENDAR
